BEGIN:VCALENDAR
VERSION:2.0
PRODID:-//eventon.com NONSGML v1.0//EN
CALSCALE:GREGORIAN
METHOD:PUBLISH
BEGIN:VEVENT
UID:69e5ea28591bb
DTSTAMP:20260420T085608Z
DTSTART:20231029T003000Z
DTEND:20231029T020000Z
LOCATION:Cine Teatro Plaza Colon n° 27
SUMMARY:Mendoza
DESCRIPTION:Mendoza\nhttps://www.jorgerojas.info/events/mendoza-2/
URL:https://www.jorgerojas.info/events/mendoza-2/
END:VEVENT
END:VCALENDAR